BEGIN:VCALENDAR
VERSION:2.0
PRODID:-//rheinau-evangelisch.de//NONSGML kigkonsult.se iCalcreator 2.41.92//
CALSCALE:GREGORIAN
METHOD:PUBLISH
UID:61353132-3333-4435-a263-333662663535
X-WR-TIMEZONE:Europe/Berlin
X-LIC-LOCATION:Europe/Berlin
BEGIN:VTIMEZONE
TZID:Europe/Berlin
BEGIN:DAYLIGHT
TZOFFSETFROM:+0100
TZOFFSETTO:+0200
TZNAME:CEST
DTSTART:19700329T020000
RRULE:FREQ=YEARLY;BYDAY=-1SU;BYMONTH=3
END:DAYLIGHT
BEGIN:STANDARD
TZOFFSETFROM:+0200
TZOFFSETTO:+0100
TZNAME:CET
DTSTART:19701025T030000
RRULE:FREQ=YEARLY;BYDAY=-1SU;BYMONTH=10
END:STANDARD
END:VTIMEZONE
BEGIN:VEVENT
UID:37323064-6263-4762-a631-613234356334
DTSTAMP:20260421T170656Z
DESCRIPTION:Fahrradpilgern durch die Jahreszeiten\n \n Veranstaltungsort:\n
  St. Georg Freistett\n Rheinstr. 38\n 77866 Rheinau\n \n Veranstalter:\n G
 emeinde: Freistett - Pfarramt: Rheinau\n Kirchstr. 11\n 77866 Rheinau\n Te
 lefon: 07844-1237
DTSTART;TZID=Europe/Berlin:20260523T100000
DTEND;TZID=Europe/Berlin:20260523T170000
LOCATION:St. Georg Freistett\n - Rheinstr. 38\n - 77866 Rheinau
SUMMARY:Fahrradpilgern
X-ALT-DESC;FMTTYPE=text/html:Fahrradpilgern durch die Jahreszeiten<br /><br
  />Veranstaltungsort: <br />St. Georg Freistett<br />Rheinstr. 38<br />778
 66 Rheinau<br /><br />Veranstalter: <br />Gemeinde: Freistett - Pfarramt: 
 Rheinau<br />Kirchstr. 11<br />77866 Rheinau<br />Telefon: 07844-1237
END:VEVENT
END:VCALENDAR
