BEGIN:VCALENDAR
VERSION:2.0
PRODID:-//rheinau-evangelisch.de//NONSGML kigkonsult.se iCalcreator 2.41.92//
CALSCALE:GREGORIAN
METHOD:PUBLISH
UID:34653863-3035-4535-b161-323063336538
X-WR-TIMEZONE:Europe/Berlin
X-LIC-LOCATION:Europe/Berlin
BEGIN:VTIMEZONE
TZID:Europe/Berlin
BEGIN:DAYLIGHT
TZOFFSETFROM:+0100
TZOFFSETTO:+0200
TZNAME:CEST
DTSTART:19700329T020000
RRULE:FREQ=YEARLY;BYDAY=-1SU;BYMONTH=3
END:DAYLIGHT
BEGIN:STANDARD
TZOFFSETFROM:+0200
TZOFFSETTO:+0100
TZNAME:CET
DTSTART:19701025T030000
RRULE:FREQ=YEARLY;BYDAY=-1SU;BYMONTH=10
END:STANDARD
END:VTIMEZONE
BEGIN:VEVENT
UID:31353666-3734-4533-b339-666461616535
DTSTAMP:20260421T180833Z
DESCRIPTION:Immer am letzten Freitag im Monat. Der Frauenverein lädt herzli
 ch zur Begegnungszeit bei einer Tasse Kaffee ein. Es ist Raum für Gespräch
 \, Austausch und ein freundliches Miteinander. Wir freuen uns über jede un
 d jeden\, der kommt.\n \n Veranstaltungsort:\n Pfarrhaus Freistett\n Rhein
 str. 44\n 77866 Rheinau-Freistett\n \n Veranstalter:\n Gemeinde: Freistett
  - Pfarramt: Rheinau\n Kirchstr. 11\n 77866 Rheinau\n Telefon: 07844-1237
DTSTART;TZID=Europe/Berlin:20260424T150000
DTEND;TZID=Europe/Berlin:20260424T170000
LOCATION:Pfarrhaus Freistett\n - Rheinstr. 44\n - 77866 Rheinau-Freistett
SUMMARY:Kaffeemoment
X-ALT-DESC;FMTTYPE=text/html:Immer am letzten Freitag im Monat.\n Der Fraue
 nverein lädt herzlich zur Begegnungszeit bei einer Tasse Kaffee ein. Es is
 t Raum für Gespräch\, Austausch und ein freundliches Miteinander. Wir freu
 en uns über jede und jeden\, der kommt.<br /><br />Veranstaltungsort: <br 
 />Pfarrhaus Freistett<br />Rheinstr. 44<br />77866 Rheinau-Freistett<br />
 <br />Veranstalter: <br />Gemeinde: Freistett - Pfarramt: Rheinau<br />Kir
 chstr. 11<br />77866 Rheinau<br />Telefon: 07844-1237
END:VEVENT
END:VCALENDAR
