BEGIN:VCALENDAR
VERSION:2.0
PRODID:-//rheinau-evangelisch.de//NONSGML kigkonsult.se iCalcreator 2.41.92//
CALSCALE:GREGORIAN
METHOD:PUBLISH
UID:61393430-3635-4532-b832-313263383836
X-WR-TIMEZONE:Europe/Berlin
X-LIC-LOCATION:Europe/Berlin
BEGIN:VTIMEZONE
TZID:Europe/Berlin
BEGIN:DAYLIGHT
TZOFFSETFROM:+0100
TZOFFSETTO:+0200
TZNAME:CEST
DTSTART:19700329T020000
RRULE:FREQ=YEARLY;BYDAY=-1SU;BYMONTH=3
END:DAYLIGHT
BEGIN:STANDARD
TZOFFSETFROM:+0200
TZOFFSETTO:+0100
TZNAME:CET
DTSTART:19701025T030000
RRULE:FREQ=YEARLY;BYDAY=-1SU;BYMONTH=10
END:STANDARD
END:VTIMEZONE
BEGIN:VEVENT
UID:62303933-6461-4366-b730-303138616330
DTSTAMP:20260421T180802Z
DESCRIPTION:Unsere KaffeeZitt in 'Bische'\n \n Veranstaltungsort:\n Hans-Sc
 hwindt-Haus\n Kirchstr. 11\n 77866 Rheinau-Rheinbischofsheim\n \n Veransta
 lter:\n Gemeinde: Rheinbischofsheim - Pfarramt: Rheinau\n Kirchstr. 11\n 7
 7866 Rheinau-Rheinbischofsheim\n Telefon: 07844-1237
DTSTART;TZID=Europe/Berlin:20260531T143000
DTEND;TZID=Europe/Berlin:20260531T170000
LOCATION:Hans-Schwindt-Haus\n - Kirchstr. 11\n - 77866 Rheinau-Rheinbischof
 sheim
SUMMARY:KaffeeZitt
X-ALT-DESC;FMTTYPE=text/html:Unsere KaffeeZitt in 'Bische'<br /><br />Veran
 staltungsort: <br />Hans-Schwindt-Haus<br />Kirchstr. 11<br />77866 Rheina
 u-Rheinbischofsheim<br /><br />Veranstalter: <br />Gemeinde: Rheinbischofs
 heim - Pfarramt: Rheinau<br />Kirchstr. 11<br />77866 Rheinau-Rheinbischof
 sheim<br />Telefon: 07844-1237
END:VEVENT
END:VCALENDAR
