BEGIN:VCALENDAR
VERSION:2.0
PRODID:-//rheinau-evangelisch.de//NONSGML kigkonsult.se iCalcreator 2.41.92//
CALSCALE:GREGORIAN
METHOD:PUBLISH
UID:33356130-6233-4431-b161-393134336135
X-WR-TIMEZONE:Europe/Berlin
X-LIC-LOCATION:Europe/Berlin
BEGIN:VTIMEZONE
TZID:Europe/Berlin
BEGIN:DAYLIGHT
TZOFFSETFROM:+0100
TZOFFSETTO:+0200
TZNAME:CEST
DTSTART:19700329T020000
RRULE:FREQ=YEARLY;BYDAY=-1SU;BYMONTH=3
END:DAYLIGHT
BEGIN:STANDARD
TZOFFSETFROM:+0200
TZOFFSETTO:+0100
TZNAME:CET
DTSTART:19701025T030000
RRULE:FREQ=YEARLY;BYDAY=-1SU;BYMONTH=10
END:STANDARD
END:VTIMEZONE
BEGIN:VEVENT
UID:39326234-3262-4161-a437-316561313463
DTSTAMP:20260421T151329Z
DESCRIPTION:Gesprächsangebot für Trauernde\n \n Veranstaltungsort:\n Pfarrh
 aus Freistett\n Rheinstr. 44\n 77866 Rheinau-Freistett\n \n Veranstalter:
 \n Gemeinde: Freistett - Pfarramt: Rheinau\n Kirchstr. 11\n 77866 Rheinau
 \n Telefon: 07844-1237
DTSTART;TZID=Europe/Berlin:20260509T160000
DTEND;TZID=Europe/Berlin:20260509T180000
LOCATION:Pfarrhaus Freistett\n - Rheinstr. 44\n - 77866 Rheinau-Freistett
SUMMARY:Unter freiem Himmel
X-ALT-DESC;FMTTYPE=text/html:Gesprächsangebot für Trauernde<br /><br />Vera
 nstaltungsort: <br />Pfarrhaus Freistett<br />Rheinstr. 44<br />77866 Rhei
 nau-Freistett<br /><br />Veranstalter: <br />Gemeinde: Freistett - Pfarram
 t: Rheinau<br />Kirchstr. 11<br />77866 Rheinau<br />Telefon: 07844-1237
END:VEVENT
END:VCALENDAR
