BEGIN:VCALENDAR
VERSION:2.0
PRODID:-//rheinau-evangelisch.de//NONSGML kigkonsult.se iCalcreator 2.41.92//
CALSCALE:GREGORIAN
METHOD:PUBLISH
UID:35656634-6161-4230-a533-333333646138
X-WR-TIMEZONE:Europe/Berlin
X-LIC-LOCATION:Europe/Berlin
BEGIN:VTIMEZONE
TZID:Europe/Berlin
BEGIN:DAYLIGHT
TZOFFSETFROM:+0100
TZOFFSETTO:+0200
TZNAME:CEST
DTSTART:19700329T020000
RRULE:FREQ=YEARLY;BYDAY=-1SU;BYMONTH=3
END:DAYLIGHT
BEGIN:STANDARD
TZOFFSETFROM:+0200
TZOFFSETTO:+0100
TZNAME:CET
DTSTART:19701025T030000
RRULE:FREQ=YEARLY;BYDAY=-1SU;BYMONTH=10
END:STANDARD
END:VTIMEZONE
BEGIN:VEVENT
UID:62663739-3838-4730-b335-343262323833
DTSTAMP:20260421T181101Z
DESCRIPTION:Veranstaltungsort:\n Sportplatz Diersheim\n \n Veranstalter:\n 
 Gemeinde: Freistett - Pfarramt: Rheinau\n Kirchstr. 11\n 77866 Rheinau\n T
 elefon: 07844-1237
DTSTART;TZID=Europe/Berlin:20260425T140000
DTEND;TZID=Europe/Berlin:20260425T150000
LOCATION:Sportplatz Diersheim
SUMMARY:Trauerweg
X-ALT-DESC;FMTTYPE=text/html:Veranstaltungsort: <br />Sportplatz Diersheim<
 br /><br />Veranstalter: <br />Gemeinde: Freistett - Pfarramt: Rheinau<br 
 />Kirchstr. 11<br />77866 Rheinau<br />Telefon: 07844-1237
END:VEVENT
END:VCALENDAR
